BEGIN:VCALENDAR
VERSION:2.0
PRODID:-//Austin Marathon - ECPv6.15.20//NONSGML v1.0//EN
CALSCALE:GREGORIAN
METHOD:PUBLISH
X-WR-CALNAME:Austin Marathon
X-ORIGINAL-URL:https://youraustinmarathon.com
X-WR-CALDESC:Events for Austin Marathon
REFRESH-INTERVAL;VALUE=DURATION:PT1H
X-Robots-Tag:noindex
X-PUBLISHED-TTL:PT1H
BEGIN:VTIMEZONE
TZID:America/Chicago
BEGIN:DAYLIGHT
TZOFFSETFROM:-0600
TZOFFSETTO:-0500
TZNAME:CDT
DTSTART:20240310T080000
END:DAYLIGHT
BEGIN:STANDARD
TZOFFSETFROM:-0500
TZOFFSETTO:-0600
TZNAME:CST
DTSTART:20241103T070000
END:STANDARD
BEGIN:DAYLIGHT
TZOFFSETFROM:-0600
TZOFFSETTO:-0500
TZNAME:CDT
DTSTART:20250309T080000
END:DAYLIGHT
BEGIN:STANDARD
TZOFFSETFROM:-0500
TZOFFSETTO:-0600
TZNAME:CST
DTSTART:20251102T070000
END:STANDARD
BEGIN:DAYLIGHT
TZOFFSETFROM:-0600
TZOFFSETTO:-0500
TZNAME:CDT
DTSTART:20260308T080000
END:DAYLIGHT
BEGIN:STANDARD
TZOFFSETFROM:-0500
TZOFFSETTO:-0600
TZNAME:CST
DTSTART:20261101T070000
END:STANDARD
END:VTIMEZONE
BEGIN:VEVENT
DTSTART;VALUE=DATE:20250916
DTEND;VALUE=DATE:20250917
DTSTAMP:20260419T164357
CREATED:20250718T193458Z
LAST-MODIFIED:20250827T160619Z
UID:10000049-1757980800-1758067199@youraustinmarathon.com
SUMMARY:Giveaway: Chance to Win 1 of 200 SPIbelts
DESCRIPTION:Run Austin Kick Off Week is here! Join us in celebrating the excitement of the Austin Marathon and Spurs Austin International Half as we kick off the countdown to race day. \nGiveaway: Chance to win 1 of 200 SPIbelts.
URL:https://youraustinmarathon.com/event/giveaway-chance-to-win-1-of-250-spibelts/
CATEGORIES:Giveaways
ATTACH;FMTTYPE=image/png:https://youraustinmarathon.com/wp-content/uploads/2025/07/Chance-to-win-SPIbelt.png
END:VEVENT
BEGIN:VEVENT
DTSTART;VALUE=DATE:20250915
DTEND;VALUE=DATE:20250917
DTSTAMP:20260419T164357
CREATED:20250827T160429Z
LAST-MODIFIED:20250827T160429Z
UID:10000108-1757894400-1758067199@youraustinmarathon.com
SUMMARY:Giveaway: Register now and get your Free NamePlate
DESCRIPTION:Run Austin Kick Off Week is here! Join us in celebrating the excitement of the Austin Marathon and Spurs Austin International Half as we kick off the countdown to race day. \nGiveaway: Register now and get your Free Nameplate.
URL:https://youraustinmarathon.com/event/giveaway-register-now-and-get-your-free-nameplate/
CATEGORIES:Giveaways
ATTACH;FMTTYPE=image/png:https://youraustinmarathon.com/wp-content/uploads/2025/08/Free-NamePlate.png
END:VEVENT
BEGIN:VEVENT
DTSTART;VALUE=DATE:20250915
DTEND;VALUE=DATE:20250916
DTSTAMP:20260419T164357
CREATED:20250718T194619Z
LAST-MODIFIED:20250827T160614Z
UID:10000050-1757894400-1757980799@youraustinmarathon.com
SUMMARY:Giveaway: Chance to Win 1 of 3 BPN Endurance Stacks
DESCRIPTION:Run Austin Kick Off Week is here! Join us in celebrating the excitement of the Austin Marathon and Spurs Austin International Half as we kick off the countdown to race day. \nGiveaway: Chance to Win 1 of 3 BPN Endurance Stacks. \nWant to run with the BPN Team? \nJoin the 2026 Austin Marathon BPN Team \nJoin the 2026 Austin International Half BPN Team
URL:https://youraustinmarathon.com/event/giveaway-chance-to-win-1-of-3-bpn-endurance-stacks/
CATEGORIES:Giveaways
ATTACH;FMTTYPE=image/png:https://youraustinmarathon.com/wp-content/uploads/2025/07/CHANCE-TO-WIN-1-OF-3-BPN-ENDURANCE-STACKS.png
END:VEVENT
BEGIN:VEVENT
DTSTART;VALUE=DATE:20250914
DTEND;VALUE=DATE:20250915
DTSTAMP:20260419T164357
CREATED:20250826T205933Z
LAST-MODIFIED:20250827T160607Z
UID:10000107-1757808000-1757894399@youraustinmarathon.com
SUMMARY:Chance to Win 1 of 300 Outside + 1mo trials
DESCRIPTION:Run Austin Kick Off Week is here! Join us in celebrating the excitement of the Austin Marathon and Spurs Austin International Half as we kick off the countdown to race day. \nGiveaway: Chance to Win 1 of 300 Outside + 1mo trials.
URL:https://youraustinmarathon.com/event/chance-to-win-1-of-300-outside-1mo-trials/
CATEGORIES:Giveaways
ATTACH;FMTTYPE=image/png:https://youraustinmarathon.com/wp-content/uploads/2025/08/Chance-to-Win-1-of-300-Outside-1mo-trials.png
END:VEVENT
BEGIN:VEVENT
DTSTART;VALUE=DATE:20250914
DTEND;VALUE=DATE:20250915
DTSTAMP:20260419T164357
CREATED:20250722T150453Z
LAST-MODIFIED:20250828T203058Z
UID:10000055-1757808000-1757894399@youraustinmarathon.com
SUMMARY:Chance to win 1 of 5 FinisherPix Photo Packages
DESCRIPTION:Run Austin Kick Off Week is here! Join us in celebrating the excitement of the Austin Marathon and Spurs Austin International Half as we kick off the countdown to race day. \nGiveaway: Chance to win 1 of 5 FinisherPix Photo Packages.
URL:https://youraustinmarathon.com/event/chance-to-win-6-finisherpix-1-of-300-outside-1mo-trials/
CATEGORIES:Giveaways
ATTACH;FMTTYPE=image/png:https://youraustinmarathon.com/wp-content/uploads/2025/07/Chance-to-Win-1-of-5-FinisherPix-photo-packages-.png
END:VEVENT
BEGIN:VEVENT
DTSTART;VALUE=DATE:20250913
DTEND;VALUE=DATE:20250914
DTSTAMP:20260419T164357
CREATED:20250822T202556Z
LAST-MODIFIED:20250827T160602Z
UID:10000106-1757721600-1757807999@youraustinmarathon.com
SUMMARY:Giveaway: Chance to Win 2 Night Stay at the Fairmont for Austin Marahton courtesy of Austin Sports Commission
DESCRIPTION:Run Austin Kick Off Week is here! Join us in celebrating the excitement of the Austin Marathon and Spurs Austin International Half as we kick off the countdown to race day. \nGiveaway:Chance to Win 2 Night Stay at the Fairmont for Austin Marahton courtesy of Austin Sports Commission \nSponsored by: Austin Sports Commisison.
URL:https://youraustinmarathon.com/event/giveaway-chance-to-win-1-of-2-night-stay-at-the-fairmont-for-austin-marahton-courtsey-of-austin-sports-commission/
CATEGORIES:Giveaways
ATTACH;FMTTYPE=image/png:https://youraustinmarathon.com/wp-content/uploads/2025/08/Chance-to-Win-2-Night-Stay-at-the-Fairmont-for-Austin-Marahton-courtesy-of-Austin-Sports-Commission.png
END:VEVENT
BEGIN:VEVENT
DTSTART;VALUE=DATE:20250913
DTEND;VALUE=DATE:20250914
DTSTAMP:20260419T164357
CREATED:20250722T145549Z
LAST-MODIFIED:20250904T182952Z
UID:10000054-1757721600-1757807999@youraustinmarathon.com
SUMMARY:Giveaway: Chance to Win 1 of 2 Fogo de Chao Gift Cards
DESCRIPTION:Run Austin Kick Off Week is here! Join us in celebrating the excitement of the Austin Marathon and Spurs Austin International Half as we kick off the countdown to race day. \nGiveaway: Chance to Win 1 of 2 Fogo de Chao Gift Cards values – $250\, $150
URL:https://youraustinmarathon.com/event/giveaway-chance-to-win-1-of-3-fogo-de-chao-gift-cards/
CATEGORIES:Giveaways
ATTACH;FMTTYPE=image/png:https://youraustinmarathon.com/wp-content/uploads/2025/07/CHANCE-TO-WIN-1-OF-2-FOGO-DE-CHAO-GIFT-CARDS.png
END:VEVENT
BEGIN:VEVENT
DTSTART;VALUE=DATE:20250912
DTEND;VALUE=DATE:20250913
DTSTAMP:20260419T164357
CREATED:20250811T191210Z
LAST-MODIFIED:20250827T160558Z
UID:10000099-1757635200-1757721599@youraustinmarathon.com
SUMMARY:Giveaway: Chance to Win 1 of 3 Alter Ego Running Gift Cards for $100 to the Alter Ego Site
DESCRIPTION:Run Austin Kick Off Week is here! Join us in celebrating the excitement of the Austin Marathon and Spurs Austin International Half as we kick off the countdown to race day. \nGiveaway: Chance to Win 1 of 3 Alter Ego Running Gift Cards for $100 to the Alter Ego Site \nSponsored by: Alter Ego
URL:https://youraustinmarathon.com/event/giveaway-chance-to-win-1-of-3-gift-cards-for-100-to-the-alter-ego-site/
CATEGORIES:Giveaways
ATTACH;FMTTYPE=image/png:https://youraustinmarathon.com/wp-content/uploads/2025/08/Chance-to-Win-1-of-3-Alter-Ego-Running-Gift-Cards-for-100-to-the-Alter-Ego-Site-1.png
END:VEVENT
BEGIN:VEVENT
DTSTART;VALUE=DATE:20250912
DTEND;VALUE=DATE:20250913
DTSTAMP:20260419T164357
CREATED:20250718T050004Z
LAST-MODIFIED:20250827T160554Z
UID:10000053-1757635200-1757721599@youraustinmarathon.com
SUMMARY:Giveaway: Chance to win 1 of 3 Fleet Feet RUN AUSTIN Accessory Packs
DESCRIPTION:Run Austin Kick Off Week is here! Join us in celebrating the excitement of the Austin Marathon and Spurs Austin International Half as we kick off the countdown to race day. \nGiveaway: Chance to win 1 of 3 Fleet Feet RUN AUSTIN Accessory Packs
URL:https://youraustinmarathon.com/event/giveaway-chance-to-win-1-of-3-fleet-feet-run-austin-accessory-packs/
CATEGORIES:Giveaways
ATTACH;FMTTYPE=image/png:https://youraustinmarathon.com/wp-content/uploads/2025/07/CHANCE-TO-WIN-1-OF-3-FLEET-FEET-RUN-AUSTIN-ACCESSORY-PACKS.png
END:VEVENT
BEGIN:VEVENT
DTSTART;VALUE=DATE:20250911
DTEND;VALUE=DATE:20250912
DTSTAMP:20260419T164357
CREATED:20250822T200724Z
LAST-MODIFIED:20250827T205805Z
UID:10000105-1757548800-1757635199@youraustinmarathon.com
SUMMARY:Giveaway: Chance to win 1 of 50 Blast for the Past Austin Marathon Yetis
DESCRIPTION:Run Austin Kick Off Week is here! Join us in celebrating the excitement of the Austin Marathon and Spurs Austin International Half as we kick off the countdown to race day. \nGiveaway: Chance to win 1 of 50 Blast for the Past Austin Marathon Yetis
URL:https://youraustinmarathon.com/event/giveaway-chance-to-win-1-of-50-blast-for-the-past-austin-marathon-yetis/
CATEGORIES:Giveaways
ATTACH;FMTTYPE=image/png:https://youraustinmarathon.com/wp-content/uploads/2025/08/Chance-to-win-1-of-50-Blast-for-the-Past-Austin-Marathon-Yetis-1.png
END:VEVENT
BEGIN:VEVENT
DTSTART;VALUE=DATE:20250911
DTEND;VALUE=DATE:20250912
DTSTAMP:20260419T164357
CREATED:20250822T194055Z
LAST-MODIFIED:20250827T160549Z
UID:10000104-1757548800-1757635199@youraustinmarathon.com
SUMMARY:Chance to Win your entry back
DESCRIPTION:Run Austin Kick Off Week is here! Join us in celebrating the excitement of the Austin Marathon and Spurs Austin International Half as we kick off the countdown to race day. \nGiveaway: Chance to Win your entry back . \nSponsored by PNC Bank.
URL:https://youraustinmarathon.com/event/chance-to-win-your-entry-back/
CATEGORIES:Giveaways
ATTACH;FMTTYPE=image/png:https://youraustinmarathon.com/wp-content/uploads/2025/08/Chance-to-Win-your-entry-back-.png
END:VEVENT
BEGIN:VEVENT
DTSTART;VALUE=DATE:20250910
DTEND;VALUE=DATE:20250911
DTSTAMP:20260419T164357
CREATED:20250822T192331Z
LAST-MODIFIED:20250827T203731Z
UID:10000103-1757462400-1757548799@youraustinmarathon.com
SUMMARY:Giveaway: Chance to win 1 of 5 Zilker Belts
DESCRIPTION:Run Austin Kick Off Week is here! Join us in celebrating the excitement of the Austin Marathon and Spurs Austin International Half as we kick off the countdown to race day. \nGiveaway: Chance to win 1 of 5 Zilker Belts.
URL:https://youraustinmarathon.com/event/giveaway-chance-to-win-1-of-5-zilker-belts/
CATEGORIES:Giveaways
ATTACH;FMTTYPE=image/png:https://youraustinmarathon.com/wp-content/uploads/2025/08/Chance-to-win-1-of-5-Zilker-Belts-1-1.png
END:VEVENT
BEGIN:VEVENT
DTSTART;VALUE=DATE:20250910
DTEND;VALUE=DATE:20250911
DTSTAMP:20260419T164357
CREATED:20250811T193532Z
LAST-MODIFIED:20250827T160542Z
UID:10000101-1757462400-1757548799@youraustinmarathon.com
SUMMARY:Giveaway: Chance to win 1 of 2 GOOD GOOD Goodie packs with 12 jams and extra goodies.
DESCRIPTION:Run Austin Kick Off Week is here! Join us in celebrating the excitement of the Austin Marathon and Spurs Austin International Half as we kick off the countdown to race day. \nGiveaway: Chance to win 1 of 2 GOOD GOOD Goodie packs with 12 jams and extra goodies.
URL:https://youraustinmarathon.com/event/giveaway-chance-to-win-1-of-3-good-good-goodie-packs-with-12-jams-and-extra-goodies/
CATEGORIES:Giveaways
ATTACH;FMTTYPE=image/png:https://youraustinmarathon.com/wp-content/uploads/2025/08/Chance-to-win-1-of-2-GOOD-GOOD-Goodie-packs.png
END:VEVENT
BEGIN:VEVENT
DTSTART;VALUE=DATE:20250909
DTEND;VALUE=DATE:20250917
DTSTAMP:20260419T164357
CREATED:20250828T202933Z
LAST-MODIFIED:20250829T154851Z
UID:10000110-1757376000-1758067199@youraustinmarathon.com
SUMMARY:Giveaway: Grand Prize Giveaway
DESCRIPTION:Run Austin Kick Off Week is here! Join us in celebrating the excitement of the Austin Marathon and Spurs Austin International Half as we kick off the countdown to race day. \nGiveaway:  Grand Prize Giveaway \nKick off Week Grand Prize\nRafflePress giveaway any one can enter\, Extra entry for Registered Particpants Value over $3\,000 \n\n2 Free Entires to Spurs Austin International Half and 2 Entries to Ascsension Seton Austin Marathon\n2 tickets to Kingfish at Paramount Theatre\n2 Tickets to Spurs i35 Series in Austin\n1 month Free Training plan from The Run Plan\n2 night stay for either race weekend at Holiday Inn Express NW Arboretum courtsey of Austin Sports Commission in collaboration with Pathfinder Hospitatlity\n$100 Giftcard for Massage from Brave New Love\n$100 Fogo de Chao Giftcard\nGOOD GOOD Goodie packs with 12 jams and extra goodies.\nGarmin Vivomove Trend\nSpibelt Run Belt\nRun Austin Zilker Belt\nPhoto Package from FinisherPix\nBPN Products\nRun Austin Yeti\n\n 
URL:https://youraustinmarathon.com/event/giveaway-grand-prize-giveaway/
CATEGORIES:Giveaways
ATTACH;FMTTYPE=image/png:https://youraustinmarathon.com/wp-content/uploads/2025/08/Giveaway-Grand-Prize-Giveaway.png
END:VEVENT
BEGIN:VEVENT
DTSTART;VALUE=DATE:20250909
DTEND;VALUE=DATE:20250921
DTSTAMP:20260419T164357
CREATED:20250822T190408Z
LAST-MODIFIED:20250827T203353Z
UID:10000102-1757376000-1758412799@youraustinmarathon.com
SUMMARY:Support Dell Children’s: Donate Old Shoes & Get 15% off at Meanwhile Brewing
DESCRIPTION:Run Austin Kick Off Week is here! Join us in celebrating the excitement of the Austin Marathon and Spurs Austin International Half as we kick off the countdown to race day. \nGiveaway:Meanwhile Brewing offering 15% off tab Sept 9-20 if you donate a pair of used shoes to the Sneakers4Good bin \nSponsored by Dell Children’s \n \n     
URL:https://youraustinmarathon.com/event/meanwhile-brewing-offering-15-off-tab-when-you-donate-a-pair-of-used-shoes-to-sneakers4good-bin/
CATEGORIES:Giveaways
ATTACH;FMTTYPE=image/png:https://youraustinmarathon.com/wp-content/uploads/2025/08/Support-Dell-Childrens-Donate-Old-Shoes-Get-15-off-at-Meanwhile-Brewing.png
END:VEVENT
BEGIN:VEVENT
DTSTART;VALUE=DATE:20250909
DTEND;VALUE=DATE:20250910
DTSTAMP:20260419T164357
CREATED:20250811T192917Z
LAST-MODIFIED:20250827T160530Z
UID:10000100-1757376000-1757462399@youraustinmarathon.com
SUMMARY:Giveaway: 1 Month FREE of Training by The Run Plan
DESCRIPTION:Run Austin Kick Off Week is here! Join us in celebrating the excitement of the Austin Marathon and Spurs Austin International Half as we kick off the countdown to race day. \nGiveaway:1 Month FREE of Training to everyone who registers on the 9th
URL:https://youraustinmarathon.com/event/giveaway-1-month-free-of-training-by-the-run-plan/
CATEGORIES:Giveaways
ATTACH;FMTTYPE=image/png:https://youraustinmarathon.com/wp-content/uploads/2025/08/1-Month-FREE-of-Training-by-The-Run-Plan-1.png
END:VEVENT
END:VCALENDAR