BEGIN:VCALENDAR
VERSION:2.0
PRODID:-//Austin Marathon - ECPv6.15.20//NONSGML v1.0//EN
CALSCALE:GREGORIAN
METHOD:PUBLISH
X-ORIGINAL-URL:https://youraustinmarathon.com
X-WR-CALDESC:Events for Austin Marathon
REFRESH-INTERVAL;VALUE=DURATION:PT1H
X-Robots-Tag:noindex
X-PUBLISHED-TTL:PT1H
BEGIN:VTIMEZONE
TZID:America/Chicago
BEGIN:DAYLIGHT
TZOFFSETFROM:-0600
TZOFFSETTO:-0500
TZNAME:CDT
DTSTART:20250309T080000
END:DAYLIGHT
BEGIN:STANDARD
TZOFFSETFROM:-0500
TZOFFSETTO:-0600
TZNAME:CST
DTSTART:20251102T070000
END:STANDARD
BEGIN:DAYLIGHT
TZOFFSETFROM:-0600
TZOFFSETTO:-0500
TZNAME:CDT
DTSTART:20260308T080000
END:DAYLIGHT
BEGIN:STANDARD
TZOFFSETFROM:-0500
TZOFFSETTO:-0600
TZNAME:CST
DTSTART:20261101T070000
END:STANDARD
BEGIN:DAYLIGHT
TZOFFSETFROM:-0600
TZOFFSETTO:-0500
TZNAME:CDT
DTSTART:20270314T080000
END:DAYLIGHT
BEGIN:STANDARD
TZOFFSETFROM:-0500
TZOFFSETTO:-0600
TZNAME:CST
DTSTART:20271107T070000
END:STANDARD
END:VTIMEZONE
BEGIN:VEVENT
DTSTART;TZID=America/Chicago:20260512T050000
DTEND;TZID=America/Chicago:20260519T180000
DTSTAMP:20260419T215042
CREATED:20260417T201415Z
LAST-MODIFIED:20260417T201415Z
UID:10000111-1778562000-1779213600@youraustinmarathon.com
SUMMARY:2027 RUN AUSTIN® Launch Week
DESCRIPTION:Welcome to RUN AUSTIN®\, your premier hub help with marathon and half marathon preparation in the heart of Texas. As the home of the iconic Ascension Seton Austin Marathon\, Half Marathon & 5K and Spurs Austin International Half\, formerly known as the 3M Half Marathon\, we’re here to support your running journey every step of the way. Whether you’re seeking training partners\, a friendly race atmosphere\, or simply the chance to meet fellow running enthusiasts\, Austin’s running community has you covered. \nRunning in Austin is an invigorating experience that immerses you in the city’s vibrant culture and breathtaking scenery. Whether you’re a local or a visitor\, lacing up your running shoes in Austin means embarking on a thrilling adventure. The city offers an array of diverse running routes\, catering to every preference and fitness level. \nRunning in Austin isn’t just about exercise; it’s about embracing the spirit of the city and exploring the unique blend of natural beauty and urban charm that sets Austin apart. Together\, we RUN AUSTIN®
URL:https://youraustinmarathon.com/event/2027-run-austin-launch-week/
ATTACH;FMTTYPE=image/png:https://youraustinmarathon.com/wp-content/uploads/2026/04/Launch-Week-Event-Giveaways-and-Group-Runs.png
END:VEVENT
END:VCALENDAR