BEGIN:VCALENDAR
VERSION:2.0
PRODID:-//Austin Marathon - ECPv6.15.20//NONSGML v1.0//EN
CALSCALE:GREGORIAN
METHOD:PUBLISH
X-WR-CALNAME:Austin Marathon
X-ORIGINAL-URL:https://youraustinmarathon.com
X-WR-CALDESC:Events for Austin Marathon
REFRESH-INTERVAL;VALUE=DURATION:PT1H
X-Robots-Tag:noindex
X-PUBLISHED-TTL:PT1H
BEGIN:VTIMEZONE
TZID:America/Chicago
BEGIN:DAYLIGHT
TZOFFSETFROM:-0600
TZOFFSETTO:-0500
TZNAME:CDT
DTSTART:20240310T080000
END:DAYLIGHT
BEGIN:STANDARD
TZOFFSETFROM:-0500
TZOFFSETTO:-0600
TZNAME:CST
DTSTART:20241103T070000
END:STANDARD
BEGIN:DAYLIGHT
TZOFFSETFROM:-0600
TZOFFSETTO:-0500
TZNAME:CDT
DTSTART:20250309T080000
END:DAYLIGHT
BEGIN:STANDARD
TZOFFSETFROM:-0500
TZOFFSETTO:-0600
TZNAME:CST
DTSTART:20251102T070000
END:STANDARD
BEGIN:DAYLIGHT
TZOFFSETFROM:-0600
TZOFFSETTO:-0500
TZNAME:CDT
DTSTART:20260308T080000
END:DAYLIGHT
BEGIN:STANDARD
TZOFFSETFROM:-0500
TZOFFSETTO:-0600
TZNAME:CST
DTSTART:20261101T070000
END:STANDARD
END:VTIMEZONE
BEGIN:VEVENT
DTSTART;TZID=America/Chicago:20250910T183000
DTEND;TZID=America/Chicago:20250910T193000
DTSTAMP:20260419T151007
CREATED:20250806T162638Z
LAST-MODIFIED:20250827T160800Z
UID:10000062-1757529000-1757532600@youraustinmarathon.com
SUMMARY:Cooldown Running - Free group run
DESCRIPTION:Run Austin Kick Off Week is here! Join us in celebrating the excitement of the Austin Marathon and Spurs Austin International Half as we kick off the countdown to race day. \nJoin us for the Group Run!Kick off your training with a fun and supportive community. Check out the details below: \nCooldown is a social run club for all paces and all people.\nWe’re here to run\, hang out\, and have a good time—no pressure\, just good vibes and good company. Come through for weekly runs\, post-run hangs\, and a crew that keeps it fun. 1-5 miles. \n\n\n\n\n\n\n\nGroup Run\nTime Slot\nLocation\n\n\nCooldown Running\n6:30 PM\nBarton Springs Saloon\n\n\n\nDon’t miss out—let’s run together!
URL:https://youraustinmarathon.com/event/cooldown-running-free-group-run/
LOCATION:Barton Springs Saloon\, 424 S Lamar Blvd\, Austin\, TX 78704\, United States\, Austin\, TX\, United States
CATEGORIES:Group Run
ATTACH;FMTTYPE=image/png:https://youraustinmarathon.com/wp-content/uploads/2025/08/Cooldown-Running-1.png
END:VEVENT
END:VCALENDAR