BEGIN:VCALENDAR
VERSION:2.0
PRODID:-//Austin Marathon - ECPv6.15.20//NONSGML v1.0//EN
CALSCALE:GREGORIAN
METHOD:PUBLISH
X-WR-CALNAME:Austin Marathon
X-ORIGINAL-URL:https://youraustinmarathon.com
X-WR-CALDESC:Events for Austin Marathon
REFRESH-INTERVAL;VALUE=DURATION:PT1H
X-Robots-Tag:noindex
X-PUBLISHED-TTL:PT1H
BEGIN:VTIMEZONE
TZID:America/Chicago
BEGIN:DAYLIGHT
TZOFFSETFROM:-0600
TZOFFSETTO:-0500
TZNAME:CDT
DTSTART:20240310T080000
END:DAYLIGHT
BEGIN:STANDARD
TZOFFSETFROM:-0500
TZOFFSETTO:-0600
TZNAME:CST
DTSTART:20241103T070000
END:STANDARD
BEGIN:DAYLIGHT
TZOFFSETFROM:-0600
TZOFFSETTO:-0500
TZNAME:CDT
DTSTART:20250309T080000
END:DAYLIGHT
BEGIN:STANDARD
TZOFFSETFROM:-0500
TZOFFSETTO:-0600
TZNAME:CST
DTSTART:20251102T070000
END:STANDARD
BEGIN:DAYLIGHT
TZOFFSETFROM:-0600
TZOFFSETTO:-0500
TZNAME:CDT
DTSTART:20260308T080000
END:DAYLIGHT
BEGIN:STANDARD
TZOFFSETFROM:-0500
TZOFFSETTO:-0600
TZNAME:CST
DTSTART:20261101T070000
END:STANDARD
END:VTIMEZONE
BEGIN:VEVENT
DTSTART;TZID=America/Chicago:20250916T060000
DTEND;TZID=America/Chicago:20250916T070000
DTSTAMP:20260419T162904
CREATED:20250806T191023Z
LAST-MODIFIED:20250827T164227Z
UID:10000096-1758002400-1758006000@youraustinmarathon.com
SUMMARY:Morning Jo's - Free group run
DESCRIPTION:Run Austin Kick Off Week is here! Join us in celebrating the excitement of the Austin Marathon and Spurs Austin International Half as we kick off the countdown to race day. \nJoin us for the Group Run!Kick off your training with a fun and supportive community. Check out the details below: \nThe Morning Jo’s is a social run club in Austin\, Texas\, that meets on Tuesdays at 6 AM at Jo’s Coffee on South Congress. They’re known for being “All Faces\, All Paces” and putting that to practice with pacers for 7-12 minute miles and walking. The 3-6 mile routes go down-and-back through and Capital\, and through UT Austin if you are wanting extra miles\, ensuring that no runner gets left behind. They will stick around after the run to socialize over a coffee too! \n\n\n\n\n\n\n\nGroup Run\nTime Slot\nLocation\n\n\nMorning Jo’s\n6:00 AM\nJo’s Coffee on South Congress\n\n\n\nDon’t miss out—let’s run together! \nJoin the 2026 Austin Marathon Morning Jo’s Team \nJoin the 2026 Austin International Half Morning Jo’s Team
URL:https://youraustinmarathon.com/event/morning-jos-free-group-run/
LOCATION:Jo’s Coffee\, 1300 South Congress Avenue\, Austin\, Texas 78704\, Austin\, TX\, 78704\, United States
CATEGORIES:Group Run
ATTACH;FMTTYPE=image/png:https://youraustinmarathon.com/wp-content/uploads/2025/08/Morning-Jos.png
END:VEVENT
END:VCALENDAR