BEGIN:VCALENDAR
VERSION:2.0
PRODID:-//Austin Marathon - ECPv6.15.20//NONSGML v1.0//EN
CALSCALE:GREGORIAN
METHOD:PUBLISH
X-ORIGINAL-URL:https://youraustinmarathon.com
X-WR-CALDESC:Events for Austin Marathon
REFRESH-INTERVAL;VALUE=DURATION:PT1H
X-Robots-Tag:noindex
X-PUBLISHED-TTL:PT1H
BEGIN:VTIMEZONE
TZID:America/Chicago
BEGIN:DAYLIGHT
TZOFFSETFROM:-0600
TZOFFSETTO:-0500
TZNAME:CDT
DTSTART:20240310T080000
END:DAYLIGHT
BEGIN:STANDARD
TZOFFSETFROM:-0500
TZOFFSETTO:-0600
TZNAME:CST
DTSTART:20241103T070000
END:STANDARD
BEGIN:DAYLIGHT
TZOFFSETFROM:-0600
TZOFFSETTO:-0500
TZNAME:CDT
DTSTART:20250309T080000
END:DAYLIGHT
BEGIN:STANDARD
TZOFFSETFROM:-0500
TZOFFSETTO:-0600
TZNAME:CST
DTSTART:20251102T070000
END:STANDARD
BEGIN:DAYLIGHT
TZOFFSETFROM:-0600
TZOFFSETTO:-0500
TZNAME:CDT
DTSTART:20260308T080000
END:DAYLIGHT
BEGIN:STANDARD
TZOFFSETFROM:-0500
TZOFFSETTO:-0600
TZNAME:CST
DTSTART:20261101T070000
END:STANDARD
END:VTIMEZONE
BEGIN:VEVENT
DTSTART;TZID=America/Chicago:20250914T200000
DTEND;TZID=America/Chicago:20250914T213000
DTSTAMP:20260419T165231
CREATED:20250806T184114Z
LAST-MODIFIED:20250827T164220Z
UID:10000091-1757880000-1757885400@youraustinmarathon.com
SUMMARY:Plant Powered Athlete- Free group run -September 14\, 2025
DESCRIPTION:Run Austin Kick Off Week is here! Join us in celebrating the excitement of the Austin Marathon and Spurs Austin International Half as we kick off the countdown to race day. \nJoin us for the Group Run!Kick off your training with a fun and supportive community. Check out the details below: \nPlant Powered Athlete is a free\, public fitness group (primarily running and walking) and social club for plant-based and veg-curious folks in the Austin\, TX area. As an inclusive group\, ALL levels of runners\, walkers and cyclists are welcome\, as are omnivores!\nAt least two route distances (usually 3mi and 5mi) will be available at each run/walk event. Join us for a weekly social run and enjoy a meal and conversation afterwards! \n\n\n\n\n\n\n\nGroup Run\nTime Slot\nLocation\n\n\nPlant Powered Athlete – ATX\n8:00 PM\nThe Vegan Nom 2324 E Cesar Chavez Street\n\n\n\nDon’t miss out—let’s run together! \nJoin the 2026 Austin International Half Plant Powered Team
URL:https://youraustinmarathon.com/event/plant-powered-athlete-free-group-run-september-14-2025/
LOCATION:Plant Powered Athlete – ATX\, The Vegan Nom 2324 E Cesar Chavez Street
CATEGORIES:Group Run
ATTACH;FMTTYPE=image/png:https://youraustinmarathon.com/wp-content/uploads/2025/08/Plant-Powered-Athlete.png
END:VEVENT
END:VCALENDAR