BEGIN:VCALENDAR
VERSION:2.0
PRODID:-//Austin Marathon - ECPv6.15.20//NONSGML v1.0//EN
CALSCALE:GREGORIAN
METHOD:PUBLISH
X-ORIGINAL-URL:https://youraustinmarathon.com
X-WR-CALDESC:Events for Austin Marathon
REFRESH-INTERVAL;VALUE=DURATION:PT1H
X-Robots-Tag:noindex
X-PUBLISHED-TTL:PT1H
BEGIN:VTIMEZONE
TZID:America/Chicago
BEGIN:DAYLIGHT
TZOFFSETFROM:-0600
TZOFFSETTO:-0500
TZNAME:CDT
DTSTART:20240310T080000
END:DAYLIGHT
BEGIN:STANDARD
TZOFFSETFROM:-0500
TZOFFSETTO:-0600
TZNAME:CST
DTSTART:20241103T070000
END:STANDARD
BEGIN:DAYLIGHT
TZOFFSETFROM:-0600
TZOFFSETTO:-0500
TZNAME:CDT
DTSTART:20250309T080000
END:DAYLIGHT
BEGIN:STANDARD
TZOFFSETFROM:-0500
TZOFFSETTO:-0600
TZNAME:CST
DTSTART:20251102T070000
END:STANDARD
BEGIN:DAYLIGHT
TZOFFSETFROM:-0600
TZOFFSETTO:-0500
TZNAME:CDT
DTSTART:20260308T080000
END:DAYLIGHT
BEGIN:STANDARD
TZOFFSETFROM:-0500
TZOFFSETTO:-0600
TZNAME:CST
DTSTART:20261101T070000
END:STANDARD
END:VTIMEZONE
BEGIN:VEVENT
DTSTART;TZID=America/Chicago:20250915T183000
DTEND;TZID=America/Chicago:20250915T193000
DTSTAMP:20260419T195517
CREATED:20250806T190412Z
LAST-MODIFIED:20250827T164227Z
UID:10000095-1757961000-1757964600@youraustinmarathon.com
SUMMARY:Monday Night Run -Free group run
DESCRIPTION:Run Austin Kick Off Week is here! Join us in celebrating the excitement of the Austin Marathon and Spurs Austin International Half as we kick off the countdown to race day. \nJoin us for the Group Run!Kick off your training with a fun and supportive community. Check out the details below: \n\n\n\n\n\n\n\nGroup Run\nTime Slot\nLocation\n\n\nMonday Night Run\n6:30 PM\nReady to Run\, Far West Blvd\n\n\n\nDon’t miss out—let’s run together! \n 
URL:https://youraustinmarathon.com/event/monday-night-run-free-group-run/
LOCATION:Ready to Run\, Far West Blvd
CATEGORIES:Group Run
ATTACH;FMTTYPE=image/png:https://youraustinmarathon.com/wp-content/uploads/2025/08/Monday-Night-Run-1.png
END:VEVENT
END:VCALENDAR